BEGIN:VCALENDAR
VERSION:2.0
PRODID:-//Galopprennbahn Baden-Baden · Iffezheim - ECPv4.6.8//NONSGML v1.0//EN
CALSCALE:GREGORIAN
METHOD:PUBLISH
X-WR-CALNAME:Galopprennbahn Baden-Baden · Iffezheim
X-ORIGINAL-URL:https://www.baden-racing.com
X-WR-CALDESC:Events for Galopprennbahn Baden-Baden · Iffezheim
BEGIN:VEVENT
DTSTART;VALUE=DATE:20191019
DTEND;VALUE=DATE:20191021
DTSTAMP:20190822T023936
CREATED:20170811T090300Z
LAST-MODIFIED:20190618T094803Z
UID:2040-1571443200-1571615999@www.baden-racing.com
SUMMARY:Sales & Racing Festival
DESCRIPTION:[vc_row][vc_column]\n\n	\n		\n		\n			\n				Sales & Racing Festival\n				Sales & Racing Festival \n\n			\n		\n	\n		\n		\n			\n				Die dritte Winterkönigin für Markus Klug\n				Die dritte Winterkönigin für Markus Klug  \n\n			\n		\n	\n		\n		\n			\n				Sales & Racing 2018\n				Sales & Racing 2018 \n\n			\n		\n	\n		\n		\n			\n				Schlittenhunde in Aktion\n			\n		\n	\n		\n		\n			\n				Ramazotti siegt im Ferdinand Leisten Memorial\n				Ramazotti siegt im Ferdinand Leisten Memorial \n\n			\n		[/vc_column][/vc_row][vc_row][vc_column width=”2/3″][vc_empty_space][vc_column_text]Das Sales & Racing Festival beginnt am Freitag mit der Herbstauktion der BBAG\, die Samstag fortgesetzt wird. Höhepunkt des Renntages am Samstag ist das Ferdinand Leisten Memorial BBAG Auktionsrennen\, das mit 200.000 Euro am höchsten dotierte Zweijährigen-Rennen in Deutschland. \nAm Sonntag gibt es zwei Grupperennen. Neben dem Ittlingen – Preis der Winterkönigin (Gr.III) für 2-jährige Stuten\, wird auch die Baden-Württemberg Trophy (Gr.III) gelaufen\, die eine Etappe der internationalen Rennserie Le Defi du Galop-Cup ist.[/vc_column_text][vc_empty_space][vc_row_inner][vc_column_inner width=”1/2″]Renntage & Ergebnisse[/vc_column_inner][vc_column_inner width=”1/2″]Ausschreibungen [/vc_column_inner][/vc_row_inner][vc_empty_space][/vc_column][vc_column width=”1/3″][vc_message message_box_color=”alert-info”]Freitag\, 18. Oktober 2019 \nBBAG Herbstauktion \nSamstag\, 19. Oktober \nPlatzöffnung 12 Uhr \n1. Start: ca. 13 Uhr \nFERDINAND LEISTEN MEMORIAL \nFortsetzung BBAG Herbstauktion \n  \nSonntag\, 20. Oktober \nPlatzöffnung 12 Uhr \n1. Start: ca. 13 Uhr \nITTLINGEN PREIS DER WINTERKÖNIGIN\nBADEN-WÜRTTEMBERG TROPHY \nÄnderungen vorbehalten[/vc_message][/vc_column][/vc_row] \n
URL:https://www.baden-racing.com/event/sales-racing-festival/
CATEGORIES:Galopp-Events
ATTACH;FMTTYPE=image/jpeg:https://www.baden-racing.com/wp-content/uploads/2017/08/Fruehjahrsmeeting-2.jpg
END:VEVENT
END:VCALENDAR